BEGIN:VCALENDAR
VERSION:2.0
PRODID:-//eventon.com NONSGML v1.0//EN
BEGIN:VEVENT
UID:69e5a34a4f32d
DTSTAMP:20260420T055346
DTSTART:20261029T173000Z
DTEND:20261029T215000Z
LOCATION:Stadtbücherei Garching Bürgerplatz 11\,  85748 Garching bei München
SUMMARY:GRAMMOPHON-LESUNG: "Musenkind mit Maulkorb" - Die Geburt des deutschen Kabaretts
DESCRIPTION: Das deutsche Kabarett feiert 2026 seinen 125.Geburtstag!! Jo van Nelsen hat sich den Kinderjahren des deutschen Kabaretts bereits 2001 in Buchform und in seinem 2021 veröffentlichten Podcast "Wir richten scharf und herzlich!" ausführlich gewidmet. In seiner neuen Grammophonlesung legt er sein besonderes Augenmerk auf die Ursprünge der "9. Muse" in[..]
END:VEVENT
END:VCALENDAR