BEGIN:VCALENDAR
VERSION:2.0
PRODID:-//eventon.com NONSGML v1.0//EN
BEGIN:VEVENT
UID:69e5a3fe37e72
DTSTAMP:20260420T055646
DTSTART:20261024T180000Z
DTEND:20261024T215000Z
LOCATION:KulturSalon Stadthalle Altenkirchen Quengelstraße 7\,  57610 Altenkirchen
SUMMARY:Grammophonlesung: Ein Panter in Berlin - Kurt Tucholsky und der Sound der Zwanziger Jahre
DESCRIPTION: Kurt Tucholsky\,  der wohl bedeutendste deutsche Satiriker und Journalist des 20.Jahrhunderts\,  hatte eine große Liebe: Sein Grammophon! Diese Liebe teilt er mit dem Frankfurter Kabarettisten und Schellackplatten-Sammler Jo van Nelsen\,  der an diesem Abend dem Sound der Zwanziger Jahre nachlauscht in Tucholskys Texten und Liedern. Direkt vom Grammophon - und[..]
END:VEVENT
END:VCALENDAR