BEGIN:VCALENDAR
VERSION:2.0
PRODID:-//eventon.com NONSGML v1.0//EN
BEGIN:VEVENT
UID:69e5a32b3507e
DTSTAMP:20260420T055315
DTSTART:20260617T173000Z
DTEND:20260617T200000Z
LOCATION:Holzhausenschlösschen Justinianstraße 5\,  60322 Frankfurt am Main
SUMMARY:Grammophon-Lesung: "Käsebier erobert den Kurfürstendamm" - Der spektakuläre Roman über das Berlin der 20er Jahre
DESCRIPTION: In seiner Reihe "Grammophon-Lesungen" lässt der Musikkabarettist Jo van Nelsen längst vergangene Stimmen erklingen und liefert so den Soundtrack zu spannenden Texten. So auch bei dieser Lesung aus einem der authentischsten Romane der 20er Jahre\,  der jetzt beim Frankfurter Schöffling Verlag wieder erschienen ist. Die Parallelen der Handlung zum Heute[..]
END:VEVENT
END:VCALENDAR