BEGIN:VCALENDAR
VERSION:2.0
PRODID:-//eventon.com NONSGML v1.0//EN
BEGIN:VEVENT
UID:69e5a23512b13
DTSTAMP:20260420T054909
DTSTART:20260425T180000Z
DTEND:20260425T215000Z
LOCATION:Die Schmiere Frankfurt Seckbächer Gasse 4 60311 Frankfurt http://www.die-schmiere.de
SUMMARY:Frankfurt liest ein Buch 2026 ("Gott und die Welt" von Marie Luise Kaschnitz): DAS LEISE IM LAUTEN - Text trifft Ton
DESCRIPTION: DAS LEISE IM LAUTEN – Text trifft Ton Nicht nur gesellschaftlich\,  sondern auch städtebaulich zeichneten sich Ende der 60er Jahre besonders in Frankfurt große Veränderungen ab: Das Alte sollte dem Neuen radikal weichen\,  Gründerzeitbauten durch Hochhäuser gewinnbringend ersetzt werden. Das Zentrum der hiesigen Neubebauung lag im Westend\,  in dem Marie[..]
END:VEVENT
END:VCALENDAR