BEGIN:VCALENDAR
VERSION:2.0
PRODID:-//eventon.com NONSGML v1.0//EN
BEGIN:VEVENT
UID:69e5a26498381
DTSTAMP:20260420T054956
DTSTART:20260421T130000Z
DTEND:20260421T215000Z
LOCATION:GDA Frankfurt am Zoo Waldschmidtstraße 6\,  60316 Frankfurt am Main
SUMMARY:Frankfurt liest ein Buch 2026 ("Gott und die Welt" von Marie Luise Kaschnitz): DAS LEISE IM LAUTEN - Text trifft Ton (gekürzte Fassung)
DESCRIPTION: DAS LEISE IM LAUTEN – Text trifft Ton Nicht nur gesellschaftlich\,  sondern auch städtebaulich zeichneten sich Ende der 60er Jahre besonders in Frankfurt große Veränderungen ab: Das Alte sollte dem Neuen radikal weichen\,  Gründerzeitbauten durch Hochhäuser gewinnbringend ersetzt werden. Das Zentrum der hiesigen Neubebauung lag im Westend\,  in dem Marie[..]
END:VEVENT
END:VCALENDAR