BEGIN:VCALENDAR
VERSION:2.0
PRODID:-//eventon.com NONSGML v1.0//EN
BEGIN:VEVENT
UID:69e5a431beec0
DTSTAMP:20260420T055737
DTSTART:20260419T090000Z
DTEND:20260419T215000Z
LOCATION:Gedenkstätte KZ Osthofen Ziegelhüttenweg 38\,  67574 Osthofen
SUMMARY:Grammophon-Lesung: "Ich küsse Ihre Hand\,  Madame" - Jüdische Künstler auf Schellack
DESCRIPTION: In seiner Reihe "Grammophon-Lesungen" lässt der Musikkabarettist Jo van Nelsen längst vergangene Stimmen erklingen und liefert so den Soundtrack zu spannenden Texten. Die Sänger Richard Tauber und Adele Kern\,  der Dirigent Julius Prüwer  - sie alle sind eng verbunden mit der Stadt Frankfurt am Main und ihrem regen Musikleben. Aber[..]
END:VEVENT
END:VCALENDAR