BEGIN:VCALENDAR
VERSION:2.0
PRODID:-//eventon.com NONSGML v1.0//EN
BEGIN:VEVENT
UID:69e5a2fc6840b
DTSTAMP:20260420T055228
DTSTART:20260509T070000Z
DTEND:20260510T160000Z
LOCATION:Lokaler Standort der WISPO 
SUMMARY:Ausbildungsseminar WISPO
DESCRIPTION: Jo van Nelsen arbeitet nicht nur auf und vor der Bühne\,  sondern auch seit 2011 als DGfS-zertifizierter Familienaufsteller und Systemischer Coach. Seit 2025 arbeitet er als Lehrender für Systemaufstellung und Biografiearbeit für die WISPO AG deutschlandweit. Dieses Wochenende ist für ein Seminar reserviert. Weitere Infos zu dieser Tätigkeit unter https://www.jo-coaching.com/termine/und[..]
END:VEVENT
END:VCALENDAR