BEGIN:VCALENDAR
VERSION:2.0
PRODID:-//eventon.com NONSGML v1.0//EN
BEGIN:VEVENT
UID:69e6b5947d2de
DTSTAMP:20260421T012404
DTSTART:20150312T180000Z
DTEND:20150312T210000Z
LOCATION:Romanfabrik Hanauer Landstraße 186\,  60314 Frankfurt
SUMMARY:Die Schlangendame - Grammophon-Lesung
DESCRIPTION: Der satirische Roman „Die Schlangendame“ ist eine wirkliche literarische Perle\,  die in Sujet und Atmosphäre Heinrich Manns „Professor Unrat“ (aka „Der Blaue Engel“) und Kurt Tucholskys „Rheinsberg: Ein Bilderbuch für Verliebte“ vorwegnimmt: Mathilde Holunder\,  gefallene Pfarrerstochter\,  verdingt sich in einem Varieté als biegsame „Schlangendame“. Dort trifft sie auf den leichtlebigen[..]
END:VEVENT
END:VCALENDAR