BEGIN:VCALENDAR
VERSION:2.0
PRODID:-//eventon.com NONSGML v1.0//EN
BEGIN:VEVENT
UID:69e5a3b885c95
DTSTAMP:20260420T055536
DTSTART:20260315T160000Z
DTEND:20260315T215000Z
LOCATION:Die Käs Waldschmidtstr.19\,  60316 Frankfurt
SUMMARY:"Solang nicht die Hose am Kronleuchter hängt...!" - Schlager & Kabarett der 1920er Jahre
DESCRIPTION: Die Musik der 20er Jahre hat es ihm schon in seiner Jugend angetan und war in vielen seiner Musikkabarettprogramme vertreten. Nun widmet sich Jo ausschließlich diesen Glanzstücken der Unterhaltungskunst und seiner Interpreten (wie Richard Tauber\,  Claire Waldoff\,  Willy Rosen) und präsentiert die witzigsten\,  frivolsten und absurdesten Schlager und Chansons der[..]
END:VEVENT
END:VCALENDAR