BEGIN:VCALENDAR
VERSION:2.0
PRODID:-//eventon.com NONSGML v1.0//EN
BEGIN:VEVENT
UID:69e6b59b2d5f0
DTSTAMP:20260421T012411
DTSTART:20141205T180000Z
DTEND:20141205T210000Z
LOCATION:Die Käs Waldschmidtstr.19\,  60316 Frankfurt
SUMMARY:Wunschlos - Musikkabarett - Zum letzten Mal.
DESCRIPTION: In neuen und alten Chansons und vor allem eigenen Texten beleuchten Jo van Nelsen und sein Partner am Klavier\,  Thorsten Larbig\,  die vielen Facetten des Glücks. Wie immer in einem Van-Nelsen/Larbig-Abend ist kein Genre vor den beiden vielseitigen Musikkabarettisten sicher: Ob Kitschschlager oder Rap\,  Seemannslied oder Operettenarie – nichts scheint unmöglich[..]
END:VEVENT
END:VCALENDAR