BEGIN:VCALENDAR
VERSION:2.0
PRODID:-//eventon.com NONSGML v1.0//EN
BEGIN:VEVENT
UID:69e88edd8668c
DTSTAMP:20260422T110325
DTSTART:20260916T180000Z
DTEND:20260916T215000Z
LOCATION:Garniers Keller Hugenottenstraße 117\,  61381 Friedrichsdorf
SUMMARY:Hesselbach-Lesung: Herr Hesselbach und die Entwicklungshilfe (Die unverfilmten Drehbücher 1)
DESCRIPTION: JO VAN NELSEN LIEST DIE HESSELBACHS: DIE UNVERFILMTEN DREHBÜCHER (1) „HERR HESSELBACH UND DIE ENTWICKLUNGSHILFE“ Jo van Nelsens Hesselbach-Lesungen mit insgesamt 12 Episoden sind seit 2006 Kult in der Rhein-Main-Region – nun stellt er eine kleine Sensation vor: 1967 fand die Hesselbach-Serie im Hessischen Rundfunk ein abruptes Ende\,  dabei lagen[..]
END:VEVENT
END:VCALENDAR