BEGIN:VCALENDAR
VERSION:2.0
PRODID:-//eventon.com NONSGML v1.0//EN
BEGIN:VEVENT
UID:69e6d0b1d500a
DTSTAMP:20260421T031945
DTSTART:20141129T180000Z
DTEND:20141128T230000Z
LOCATION:Thalhaus Thalhaus  Nerotal 18\,  65193 Wiesbaden  
SUMMARY:Wunschlos - Musikkabarett
DESCRIPTION: In neuen und alten Chansons und vor allem eigenen Texten beleuchten Jo van Nelsen und sein Partner am Klavier\,  Thorsten Larbig\,  die vielen Facetten des Glücks. Wie immer in einem Van-Nelsen/Larbig-Abend ist kein Genre vor den beiden vielseitigen Musikkabarettisten sicher: Ob Kitschschlager oder Rap\,  Seemannslied oder Operettenarie – nichts scheint unmöglich[..]
END:VEVENT
END:VCALENDAR