BEGIN:VCALENDAR
VERSION:2.0
PRODID:-//eventon.com NONSGML v1.0//EN
BEGIN:VEVENT
UID:69e5a43849331
DTSTAMP:20260420T055744
DTSTART:20250618T173000Z
DTEND:20250618T215000Z
LOCATION:Holzhausenschlösschen Justinianstraße 5\,  60322 Frankfurt am Main
SUMMARY:Grammophon-Lesung: "Ich küsse Ihre Hand\,  Madame" - Jüdische Künstler auf Schellack
DESCRIPTION: In seiner Reihe "Grammophon-Lesungen" lässt der Musikkabarettist Jo van Nelsen längst vergangene Stimmen erklingen und liefert so den Soundtrack zu spannenden Texten. Die Sänger Richard Tauber und Adele Kern\,  der Dirigent Julius Prüwer  - sie alle sind eng verbunden mit der Stadt Frankfurt am Main und ihrem regen Musikleben. Aber[..]
END:VEVENT
END:VCALENDAR