BEGIN:VCALENDAR
VERSION:2.0
PRODID:-//eventon.com NONSGML v1.0//EN
BEGIN:VEVENT
UID:69e5a45172869
DTSTAMP:20260420T055809
DTSTART:20250607T180000Z
DTEND:20250607T215000Z
LOCATION:Die Käs Waldschmidtstr.19\,  60316 Frankfurt
SUMMARY:"BLICK ZURÜCK DURCHS SCHLÜSSELOCH" -  Frivole Chansons zwischen Liebeslust und Paragraphenfrust
DESCRIPTION: Brillant unterhaltsam streift dieser Abend durch die deutsche Sittengeschichte. (…) Jo van Nelsen versteht sich gut darauf\,  das zu zelebrieren\,  seine Geschmeidigkeit rundum\,  in Gesang und Auftreten\,  ist exzeptionell. (Frankfurter Rundschau\,  16.09.2024) Zu seinem 35jährigen Bühnenjubiläum erinnert Jo van Nelsen an die Sängerin\,  die seine Liebe zum Chanson und literarischen[..]
END:VEVENT
END:VCALENDAR