BEGIN:VCALENDAR
VERSION:2.0
PRODID:-//eventon.com NONSGML v1.0//EN
BEGIN:VEVENT
UID:69e5a47ba525c
DTSTAMP:20260420T055851
DTSTART:20250529T163000Z
DTEND:20250601T120000Z
LOCATION:Akademie Waldschlösschen Waldschlößchen 1\,  37130 Gleichen
SUMMARY:Aufstellungsseminar
DESCRIPTION: Jo van Nelsen arbeitet nicht nur auf und vor der Bühne\,  sondern auch seit 2011 als DGfS-zertifizierter Familienaufsteller und Systemischer Coach. Dieses Wochenende ist für ein Seminar reserviert. Weitere Infos zum Angebot und Anmeldung unter https://www.jo-coaching.com/termine/
END:VEVENT
END:VCALENDAR