BEGIN:VCALENDAR
VERSION:2.0
PRODID:-//eventon.com NONSGML v1.0//EN
BEGIN:VEVENT
UID:69e88de0efced
DTSTAMP:20260422T105912
DTSTART:20250508T180000Z
DTEND:20250508T215000Z
LOCATION:kleines unterhaus Münsterstraße 7\,  55116 Mainz
SUMMARY:"Jetzt kommt das Wirtschaftswunder!" - Kabarettchansons der 1950er Jahre im Dialog mit dem Roman "Rosemarie" (Mordfall Rosemarie Nitribitt)
DESCRIPTION:  Zum Gedenken an das Ende des 2.Weltkriegs vor 80 Jahren: „JETZT KOMMT DAS WIRTSCHAFTSWUNDER!“  Lesung aus Erich Kubys Roman "Rosemarie" und Kabarettchansons der 50er Jahre Der Frankfurter Musikkabarettist Jo van Nelsen und sein Pianist Bernd Schmidt präsentieren Kabarettchansons der 50er Jahre im Dialog mit Kubys Roman. Autoren wie Günter Neumann\, [..]
END:VEVENT
END:VCALENDAR