BEGIN:VCALENDAR
VERSION:2.0
PRODID:-//eventon.com NONSGML v1.0//EN
BEGIN:VEVENT
UID:69e4d2dd13c10
DTSTAMP:20260419T150429
DTSTART:20141031T173000Z
DTEND:20141031T210000Z
LOCATION:Himmel und Erde Joseph-Heppel-Straße 1a 65549 Limburg
SUMMARY:Lampenfieber - Jo van Nelsen Trio
DESCRIPTION: Chanson meets Jazz - Jubiläumskonzert mit Dinner Das Jubiläumskonzert zum 25jährigen Bühnenjubiläum mit Jo van Nelsen (voc)\,  Bernd Schmidt (piano)und Michael Höfler (bass)
END:VEVENT
END:VCALENDAR