BEGIN:VCALENDAR
VERSION:2.0
PRODID:-//eventon.com NONSGML v1.0//EN
BEGIN:VEVENT
UID:69ec30fce8d61
DTSTAMP:20260425T051156
DTSTART:20231219T140000Z
DTEND:20231219T215000Z
LOCATION:GDA Frankfurt am Zoo Waldschmidtstraße 6\,  60316 Frankfurt am Main
SUMMARY:Wegen Erkrankung abgesagt! Hesselbach-Lesung: Weihnachten mit den Hesselbachs (60 Minuten Fassung) > Nachholtermin 26.11.2024
DESCRIPTION: Jo van Nelsens Hesselbach-Lesungen mit insgesamt 10 Episoden sind seit 2006 Kult in der Rhein-Main-Region – nun stellt er zum 75jährigen Jubiläum der Radio- und Fernsehfamilie eine neue Folge vor: „Die Weihnachtsbescherung“ von Wolf Schmidt\,  erstmals am 24.12.1949 vom Hessischen Rundfunk gesendet\,  steht im Mittelpunkt dieser Mundart-Lesung. Und sie ist[..]
END:VEVENT
END:VCALENDAR