BEGIN:VCALENDAR
VERSION:2.0
PRODID:-//eventon.com NONSGML v1.0//EN
BEGIN:VEVENT
UID:69e6857369e55
DTSTAMP:20260420T215843
DTSTART:20230725T173000Z
DTEND:20230725T215000Z
LOCATION:N.N. (Ort wird noch bekanntgegeben!) 
SUMMARY:"Solang nicht die Hose am Kronleuchter hängt...!" - Schlager & Kabarett der 1920er Jahre (Open Air)
DESCRIPTION: Der ultimative 20er Jahre Abend von Chansonnier Jo van Nelsen! Die Musik der Weimarer Republik hat es ihm schon in seiner Jugend angetan und war in vielen seiner Musikkabarettprogramme vertreten. Nun widmet sich Jo ausschließlich diesen Glanzstücken der Unterhaltungskunst und seiner Interpreten (wie Claire Waldoff\,  Trude Hesterberg\,  Willy Rosen) und[..]
END:VEVENT
END:VCALENDAR