BEGIN:VCALENDAR
VERSION:2.0
PRODID:-//eventon.com NONSGML v1.0//EN
BEGIN:VEVENT
UID:69e8be3297d33
DTSTAMP:20260422T142522
DTSTART:20200925T170000Z
DTEND:20200925T215000Z
LOCATION:Julie-Roger-Haus  Gummersbergstraße 24\,  60435 Frankfurt 
SUMMARY:ABGESAGT WG CORONA VERORDNUNG: Ein Panter in Berlin - Kurt Tucholsky und der Sound der Zwanziger Jahre
DESCRIPTION: Kurt Tucholsky\,  der wohl bedeutendste deutsche Satiriker und Journalist des 20.Jahrhunderts\,  hatte eine große Liebe: Sein Grammophon! Diese Liebe teilt er mit dem Frankfurter Kabarettisten und Schellackplatten-Sammler Jo van Nelsen\,  der an diesem Abend dem Sound der Zwanziger Jahre nachlauscht in Tucholskys Texten und Liedern. Der Soundtrack kommt dabei direkt[..]
END:VEVENT
END:VCALENDAR