BEGIN:VCALENDAR
VERSION:2.0
PRODID:-//eventon.com NONSGML v1.0//EN
BEGIN:VEVENT
UID:69e7407006a1a
DTSTAMP:20260421T111632
DTSTART:20200425T173000Z
DTEND:20200425T215000Z
LOCATION:Herzog Filmtheater Herzoganger 4\,  86529 Schrobenhausen
SUMMARY:VERSCHOBEN WG CORONA VERORDNUNG: Grammophon-Lesung: Eine empfindsame Reise im Automobil (1903) -> neuer Spieltermin: 26.9.2020
DESCRIPTION: Fans der Grammophonlesung "Die Schlangendame" fragten immer wieder nach weiteren Texten des fast vergessenen Autors Otto Julius Bierbaum. Voilà! Der erste Autoreisebericht\,  der in Buchform in deutscher Sprache erschien\,  wird hier in Bild und Ton wieder erlebbar! Der Erfolgsautor Otto Julius Bierbaum machte sich 1902 mit seiner italienischen Frau und[..]
END:VEVENT
END:VCALENDAR