BEGIN:VCALENDAR
VERSION:2.0
PRODID:-//eventon.com NONSGML v1.0//EN
BEGIN:VEVENT
UID:69e8a64f1d6c4
DTSTAMP:20260422T124327
DTSTART:20191022T180000Z
DTEND:20191022T200000Z
LOCATION:Zentralbibliothek Bertha-von-Suttner-Platz 1\,  40227 Düsseldorf
SUMMARY:Grammophon-Lesung: "Käsebier erobert den Kurfürstendamm" - Der spektakuläre Roman über das Berlin der 20er Jahre
DESCRIPTION: In seiner Reihe "Grammophon-Lesungen" lässt der Musikkabarettist Jo van Nelsen längst vergangene Stimmen erklingen und liefert so den Soundtrack zu spannenden Texten. So auch bei dieser Lesung aus einem der authentischsten Romane der 20er Jahre\,  der jetzt beim Frankfurter Schöffling Verlag wieder erschienen ist. Die Parallelen der Handlung zum Heute[..]
END:VEVENT
END:VCALENDAR