BEGIN:VCALENDAR
VERSION:2.0
PRODID:-//eventon.com NONSGML v1.0//EN
BEGIN:VEVENT
UID:69e8a9e766c59
DTSTAMP:20260422T125847
DTSTART:20210926T170000Z
DTEND:20210926T215000Z
LOCATION:Jakobikirche Lange Str. 69A\,  59555 Lippstadt
SUMMARY:"Solang nicht die Hose am Kronleuchter hängt...!"- Schlager & Kabarett der 1920er Jahre
DESCRIPTION: Die Musik der 20er Jahre hat es ihm schon in seiner Jugend angetan und war in vielen seiner Musikkabarettprogramme vertreten. Nun widmet sich Jo ausschließlich diesen Glanzstücken der Unterhaltungskunst und seiner Interpreten (wie Claire Waldoff\,  Trude Hesterberg\,  Willy Rosen) und präsentiert die witzigsten\,  frivolsten und absurdesten Schlager und Chansons der[..]
END:VEVENT
END:VCALENDAR