BEGIN:VCALENDAR
VERSION:2.0
PRODID:-//eventon.com NONSGML v1.0//EN
BEGIN:VEVENT
UID:69e8df55c9396
DTSTAMP:20260422T164645
DTSTART:20200303T180000Z
DTEND:20200303T215000Z
LOCATION:Garniers Keller Hugenottenstraße 117\,  61381 Friedrichsdorf
SUMMARY:Hesselbach-Lesung: Das Techtelmechtel
DESCRIPTION: Die Hesselbach-Lesung in Garniers Keller sind mittlerweile eine schöne Tradition geworden. Diesmal ist die zweite Episode des Hesselbach-Buchs "BABBA" zu hören\,  "Das Techtelmechtel" (verfilmt mit der unvergessenen Sibylle Schindler als Fräulein Pinella): Kaum ist Babba Hesselbach Firmenchef\,  drückt ihm seine Gattin schon das Protektionskind einer Freundin als Auszubildende auf. Doch das[..]
END:VEVENT
END:VCALENDAR