BEGIN:VCALENDAR
VERSION:2.0
PRODID:-//eventon.com NONSGML v1.0//EN
BEGIN:VEVENT
UID:69e911bd0d2ee
DTSTAMP:20260422T202149
DTSTART:20200321T180000Z
DTEND:20200321T215000Z
LOCATION:Bürgerhaus Stollwerck/ Theater 509 Dreikönigenstraße 23\,  50678 Köln
SUMMARY:"Ich bin so wild nach Deinem Erdbeermund" -> ABGESAGT WEGEN CORONAVIRUS\,  NACHHOLTERMIN 2021 STEHT NOCH NICHT FEST
DESCRIPTION: Jo van Nelsens Karriere begann 1989 mit einem wahren Paukenschlag: Sein Dancefloorhit „Ich bin so wild nach deinem Erdbeermund“ (Culture Beat feat. Jo van Nelsen) war 18 Wochen in den deutschen Charts\,  3 Wochen in den englischen\,  Platz 1 in Frankreich. Bühnen- und TV-Auftritte in ganz Europa. Bis heute Club-[..]
END:VEVENT
END:VCALENDAR