BEGIN:VCALENDAR
VERSION:2.0
PRODID:-//eventon.com NONSGML v1.0//EN
BEGIN:VEVENT
UID:69e94cde21b3b
DTSTAMP:20260423T003406
DTSTART:20190416T173000Z
DTEND:20190416T215000Z
LOCATION:Foyer des Hessischen Rundfunks Bertramstr.8\,   60320 Frankfurt
SUMMARY:"Was fer e Theater" - Gala zum 100. Geburtstag von Liesel Christ
DESCRIPTION: Zum 100. Geburtstag von Liesel Christ Der Abend soll an Liesel Christ\,  die Fernsehserie "Die Firma/Familie Hesselbach" und das Volkstheater Frankfurt erinnern. Verschiedene Wegbegleiter werden aus ihren Erinnerungen erzählen und eigene Programmpunkte bringen (u.a. Helga Neuner\,  die Darstellerin der Helga Hesselbach); dazu werden Ausschnitte aus Hörfunk- und Fernsehsendungen mit Liesel[..]
END:VEVENT
END:VCALENDAR