BEGIN:VCALENDAR
VERSION:2.0
PRODID:-//eventon.com NONSGML v1.0//EN
BEGIN:VEVENT
UID:69e888ce8371f
DTSTAMP:20260422T103734
DTSTART:20191106T183000Z
DTEND:20191106T215000Z
LOCATION:Badehaus II im Sprudelhof  Ludwigstraße 20\,  61231 Bad Nauheim
SUMMARY:"Ich bin so wild nach Deinem Erdbeermund" - Erotik.Texte.Lieder.Obst. >AUSVERKAUFT! Evtl. zurückgegebene Karten an der Abendkasse.
DESCRIPTION: Jo van Nelsens Karriere begann 1989 mit einem wahren Paukenschlag: Sein Dancefloorhit „Ich bin so wild nach deinem Erdbeermund“ (Culture Beat feat. Jo van Nelsen) war 18 Wochen in den deutschen Charts\,  3 Wochen in den englischen\,  Platz 1 in Frankreich. Bühnen- und TV-Auftritte in ganz Europa. Bis heute Club-[..]
END:VEVENT
END:VCALENDAR