BEGIN:VCALENDAR
VERSION:2.0
PRODID:-//eventon.com NONSGML v1.0//EN
BEGIN:VEVENT
UID:69e8297b33d2b
DTSTAMP:20260422T035051
DTSTART:20190112T180000Z
DTEND:20190112T215000Z
LOCATION:Theater im Hinterhof Hauptstraße 34 21614 Buxtehude\,  Deutschland‎
SUMMARY:Kleiner Mann\,  was nun? - Grammophon-Lesung aus der Originalfassung
DESCRIPTION: Der beliebte Roman Hans Falladas "Kleiner Mann\,  was nun?" erschien 1932 in einer stark lektorierten Form. Allzu politisch brisante Passagen wurden gestrichen\,  ganze Handlungsstränge entfernt. 2016 erschien erstmals die ungekürzte Fassung und sorgte für eine literatische Sensation. Jo van Nelsen präsentiert in seiner Grammophon-Lesung die schönsten Passagen der Urfassung\,  garniert[..]
END:VEVENT
END:VCALENDAR