BEGIN:VCALENDAR
VERSION:2.0
PRODID:-//eventon.com NONSGML v1.0//EN
BEGIN:VEVENT
UID:69e4d34c3dc64
DTSTAMP:20260419T150620
DTSTART:20151024T180000Z
DTEND:20151024T210000Z
LOCATION:
SUMMARY:Gala (geschlossene Gesellschaft)
DESCRIPTION: Gala (geschlossene Gesellschaft)
END:VEVENT
END:VCALENDAR