BEGIN:VCALENDAR
VERSION:2.0
PRODID:-//eventon.com NONSGML v1.0//EN
BEGIN:VEVENT
UID:69e8a668704c5
DTSTAMP:20260422T124352
DTSTART:20171210T160000Z
DTEND:20171210T180000Z
LOCATION:Theater Altes Hallenbad Haagstr. 29\,  61169 Friedberg. 
SUMMARY:Hesselbach-Lesung: Die Kündigung/ Die Spezialistin
DESCRIPTION: Weiter gehts mit der erfolgreichen Hesselbach-Reihe in Wolf Schmidts Heimatstadt Friedberg und der Kultur im wunderschönen Jugendstil-Hallenbad! Diesmal mit zwei Episoden: Der nie gesendeten "Die Kündigung"\,  in der Mamma um Babbas berufliche Karriere bangt; und "Die Spezialistin"\,  die das noch heute aktuelle Thema der geschäftlichen Umstrukturierung auf gewohnt vergnügliche Weise[..]
END:VEVENT
END:VCALENDAR