BEGIN:VCALENDAR
VERSION:2.0
PRODID:-//eventon.com NONSGML v1.0//EN
BEGIN:VEVENT
UID:69ea473df3c34
DTSTAMP:20260423T182221
DTSTART:20170718T120000Z
DTEND:20170723T120000Z
LOCATION:Akademie Waldschlösschen Waldschlößchen 1\,  37130 Gleichen
SUMMARY:Seminare
DESCRIPTION: Weitere Infos auf www.jo-coaching.com
END:VEVENT
END:VCALENDAR