BEGIN:VCALENDAR
VERSION:2.0
PRODID:-//eventon.com NONSGML v1.0//EN
BEGIN:VEVENT
UID:69e8bf4b684b8
DTSTAMP:20260422T143003
DTSTART:20151013T200000Z
DTEND:20151013T180000Z
LOCATION:hr2-kultur 
SUMMARY:Die Schlangendame - Hörfunkfassung der Grammophon-Lesung auf hr2-kultur\,  Teil 4
DESCRIPTION: Der satirische Roman „Die Schlangendame“ ist eine literarische Perle\,  die in Sujet und Atmosphäre Heinrich Manns „Professor Unrat“ (aka „Der Blaue Engel“) und Kurt Tucholskys „Rheinsberg: Ein Bilderbuch für Verliebte“ vorwegnimmt: Mathilde Holunder\,  gefallene Pfarrerstochter\,  verdingt sich in einem Varieté als biegsame „Schlangendame“. Dort trifft sie auf den leichtlebigen Studenten[..]
END:VEVENT
END:VCALENDAR