BEGIN:VCALENDAR
VERSION:2.0
PRODID:-//eventon.com NONSGML v1.0//EN
BEGIN:VEVENT
UID:69eaf4a633085
DTSTAMP:20260424T064214
DTSTART:20151122T100000Z
DTEND:20151122T120000Z
LOCATION:Senftöpfchen Große Neugasse 2-4\,  50667 Köln
SUMMARY:Lametta\,  Gans und Siegerkranz - Grammophon-Lesung
DESCRIPTION: Lametta\,  Gans und Siegerkranz Ein multimedialer Abend\,  der aufdeckt was sich unsere (Ur-) Großeltern auf den Gabentisch legten und ins Stammbuch schrieben. Ein Programm voll Kitsch und Witz\,  falschem Pathos und böser Satire. Ein skurriler deutscher Weihnachtsabend. Und natürlich: mit Musik direkt aus dem Trichter.
END:VEVENT
END:VCALENDAR