BEGIN:VCALENDAR
VERSION:2.0
PRODID:-//eventon.com NONSGML v1.0//EN
BEGIN:VEVENT
UID:69eac23f4d8ee
DTSTAMP:20260424T030711
DTSTART:20151019T180000Z
DTEND:20151019T210000Z
LOCATION:ShowSpielhaus 
SUMMARY:Lampenfieber - Jo van Nelsen & Band mit anschl. Jubiläumsparty 5 Jahre ShowSpielhaus
DESCRIPTION: Chanson meets Jazz Das Jubiläumskonzert zum 25jährigen Bühnenjubiläum mit Jo van Nelsen (voc)\,  Bernd Schmidt (piano)\,   Michael Höfler (bass)\,  Jan Beiling (sax) und  Jens Biehl (drums) with Special Musical Appearance by Siggi & Horst!! Im Anschluss Jubiläumsparty zum 5jährigen Bestehen des ShowSpielhauses!
END:VEVENT
END:VCALENDAR