BEGIN:VCALENDAR
VERSION:2.0
PRODID:-//eventon.com NONSGML v1.0//EN
BEGIN:VEVENT
UID:69eac23f4d812
DTSTAMP:20260424T030711
DTSTART:20160405T180000Z
DTEND:20160405T200000Z
LOCATION:Theater Alte Mühle Lohstr. 13 61118 Bad Vilbel
SUMMARY:Die Schlangendame - Grammophon-Lesung
DESCRIPTION: Der satirische Roman „Die Schlangendame“ ist eine wirkliche literarische Perle\,  die in Sujet und Atmosphäre Heinrich Manns „Professor Unrat“ (aka „Der Blaue Engel“) und Kurt Tucholskys „Rheinsberg: Ein Bilderbuch für Verliebte“ vorwegnimmt: Mathilde Holunder\,  gefallene Pfarrerstochter\,  verdingt sich in einem Varieté als biegsame „Schlangendame“. Dort trifft sie auf den leichtlebigen[..]
END:VEVENT
END:VCALENDAR