BEGIN:VCALENDAR
VERSION:2.0
PRODID:-//eventon.com NONSGML v1.0//EN
BEGIN:VEVENT
UID:69eadae56e567
DTSTAMP:20260424T045221
DTSTART:20151007T180000Z
DTEND:20151007T200000Z
LOCATION:Theater Alte Mühle Lohstr. 13 61118 Bad Vilbel
SUMMARY:Ein Panter in Berlin - Kurt Tucholsky und der Sound der Zwanziger Jahre
DESCRIPTION: Tucholsky war verliebt in sein Grammophon! Davon zeugen viele seiner Texte\,  die Jo van Nelsen hier vorstellt\,  wie auch viele Schellackplatten\,  die sich in Tucholskys Sammlung befanden. Außerdem wird Jo in dieser Grammophon-Lesung auch einige Tucholsky-Chansons singen!
END:VEVENT
END:VCALENDAR