BEGIN:VCALENDAR
VERSION:2.0
PRODID:-//eventon.com NONSGML v1.0//EN
BEGIN:VEVENT
UID:69e55cd196598
DTSTAMP:20260420T005305
DTSTART:20151027T180000Z
DTEND:20151027T210000Z
LOCATION:Die Käs Waldschmidtstr.19\,  60316 Frankfurt
SUMMARY:Hesselbach-Lesung: Das Techtelmechtel
DESCRIPTION: Ein Klassiker von und mit Jo van Nelsen. Er zeigt seine starke Verehrung für den Erfinder des hessischen Urlauts „Ei\,  Kall!“ in seiner Lesereihe „JO BABBA! - van Nelsen liest Die Hesselbachs“. Kultverdächtig! Diesmal in der "Käs" mit einer der eher seltenen Lesungen "Das Techtelmechtel".
END:VEVENT
END:VCALENDAR