BEGIN:VCALENDAR
VERSION:2.0
PRODID:-//eventon.com NONSGML v1.0//EN
BEGIN:VEVENT
UID:69ec362bc9b68
DTSTAMP:20260425T053403
DTSTART:20150516T080000Z
DTEND:20150516T140000Z
LOCATION:Waldschlösschen Reinhausen Waldschlösschen\,  37130 Reinhausen bei Göttingen
SUMMARY:Sperrtermin
DESCRIPTION: Sperrtermin
END:VEVENT
END:VCALENDAR