BEGIN:VCALENDAR
VERSION:2.0
PRODID:-//eventon.com NONSGML v1.0//EN
BEGIN:VEVENT
UID:69ec1ba974b54
DTSTAMP:20260425T034057
DTSTART:20150123T230000Z
DTEND:20150210T230000Z
LOCATION:MS Europa 
SUMMARY:Tucholsky Lesungen
DESCRIPTION: Tucholsky-Lesungen auf der MS EUROPA Kreuzfahrt Manila-Bangkok
END:VEVENT
END:VCALENDAR