BEGIN:VCALENDAR
VERSION:2.0
PRODID:-//eventon.com NONSGML v1.0//EN
BEGIN:VEVENT
UID:69ec02762fb31
DTSTAMP:20260425T015326
DTSTART:20141219T180000Z
DTEND:20141219T210000Z
LOCATION:Die Käs Waldschmidtstr.19\,  60316 Frankfurt
SUMMARY:Hesselbach-Lesung: Der röhrende Hirsch
DESCRIPTION: Ein Klassiker von und mit Jo van Nelsen. Er zeigt seine starke Verehrung für den Erfinder des hessischen Urlauts „Ei\,  Kall!“ in seiner Lesereihe „JO BABBA! - van Nelsen liest Die Hesselbachs“. Kultverdächtig!
END:VEVENT
END:VCALENDAR