BEGIN:VCALENDAR
VERSION:2.0
PRODID:-//eventon.com NONSGML v1.0//EN
BEGIN:VEVENT
UID:69ec364eb97b6
DTSTAMP:20260425T053438
DTSTART:20151209T183000Z
DTEND:20151209T210000Z
LOCATION:Badehaus II im Sprudelhof  Ludwigstraße 20\,  61231 Bad Nauheim
SUMMARY:Lametta\,  Gans und Siegerkranz - Grammophon-Lesung
DESCRIPTION: Lametta\,  Gans und Siegerkranz Ein multimedialer Abend\,  der aufdeckt was sich unsere (Ur-) Großeltern auf den Gabentisch legten und ins Stammbuch schrieben. Ein Programm voll Kitsch und Witz\,  falschem Pathos und böser Satire. Ein skurriler deutscher Weihnachtsabend. Und natürlich: mit Musik direkt aus dem Trichter.
END:VEVENT
END:VCALENDAR